BEGIN:VCALENDAR
VERSION:2.0
PRODID:-//SDG Langbroek - ECPv6.15.15//NONSGML v1.0//EN
CALSCALE:GREGORIAN
METHOD:PUBLISH
X-WR-CALNAME:SDG Langbroek
X-ORIGINAL-URL:https://koorlangbroek.nl
X-WR-CALDESC:Evenementen voor SDG Langbroek
REFRESH-INTERVAL;VALUE=DURATION:PT1H
X-Robots-Tag:noindex
X-PUBLISHED-TTL:PT1H
BEGIN:VTIMEZONE
TZID:Europe/Paris
BEGIN:DAYLIGHT
TZOFFSETFROM:+0100
TZOFFSETTO:+0200
TZNAME:CEST
DTSTART:20250330T010000
END:DAYLIGHT
BEGIN:STANDARD
TZOFFSETFROM:+0200
TZOFFSETTO:+0100
TZNAME:CET
DTSTART:20251026T010000
END:STANDARD
BEGIN:DAYLIGHT
TZOFFSETFROM:+0100
TZOFFSETTO:+0200
TZNAME:CEST
DTSTART:20260329T010000
END:DAYLIGHT
BEGIN:STANDARD
TZOFFSETFROM:+0200
TZOFFSETTO:+0100
TZNAME:CET
DTSTART:20261025T010000
END:STANDARD
BEGIN:DAYLIGHT
TZOFFSETFROM:+0100
TZOFFSETTO:+0200
TZNAME:CEST
DTSTART:20270328T010000
END:DAYLIGHT
BEGIN:STANDARD
TZOFFSETFROM:+0200
TZOFFSETTO:+0100
TZNAME:CET
DTSTART:20271031T010000
END:STANDARD
END:VTIMEZONE
BEGIN:VEVENT
DTSTART;TZID=Europe/Paris:20260523T193000
DTEND;TZID=Europe/Paris:20260523T210000
DTSTAMP:20260424T123526
CREATED:20250314T160400Z
LAST-MODIFIED:20260206T164948Z
UID:1929-1779564600-1779570000@koorlangbroek.nl
SUMMARY:Pinksterconcert met Veenendaals Christelijk Mannenkoor
DESCRIPTION:
URL:https://koorlangbroek.nl/concert/pinksterconcert-met-veenendaals-christelijk-mannenkoor/
LOCATION:Hervormde Kerk Langbroek\, Brink 10\, Langbroek\, Utrecht\, 3947NS\, Nederland
CATEGORIES:Gemengd Koor Soli Deo Gloria
ATTACH;FMTTYPE=image/jpeg:https://koorlangbroek.nl/wp-content/uploads/2023/10/5e7230e0-c732-432c-adb5-bb92a7e35329_thumb1024.jpg
END:VEVENT
BEGIN:VEVENT
DTSTART;TZID=Europe/Paris:20260603T193000
DTEND;TZID=Europe/Paris:20260603T210000
DTSTAMP:20260424T123526
CREATED:20260206T184119Z
LAST-MODIFIED:20260206T184119Z
UID:2012-1780515000-1780520400@koorlangbroek.nl
SUMMARY:Beusichem Zingt
DESCRIPTION:
URL:https://koorlangbroek.nl/concert/beusichem-zingt/
LOCATION:Ned. Herv. Sint Johannes de Doperkerk\, Beusichem\, Markt 14\, Beusichem\, Utrecht\, 4112 JS\, Nederland
CATEGORIES:Gemengd Koor Soli Deo Gloria
ATTACH;FMTTYPE=image/jpeg:https://koorlangbroek.nl/wp-content/uploads/2023/10/maxresdefault.jpg
END:VEVENT
BEGIN:VEVENT
DTSTART;TZID=Europe/Paris:20260618T190000
DTEND;TZID=Europe/Paris:20260618T203000
DTSTAMP:20260424T123526
CREATED:20260206T190054Z
LAST-MODIFIED:20260207T080446Z
UID:2021-1781809200-1781814600@koorlangbroek.nl
SUMMARY:De Wijngaard
DESCRIPTION:
URL:https://koorlangbroek.nl/concert/de-wijngaard-2/
LOCATION:De Wijngaard\, Dennenweg 2\, Bosch en Duin\, Utrecht\, 3735MR\, Nederland
CATEGORIES:Gemengd Koor Soli Deo Gloria
ATTACH;FMTTYPE=image/jpeg:https://koorlangbroek.nl/wp-content/uploads/2024/02/De-Wijngaard.jpg
END:VEVENT
BEGIN:VEVENT
DTSTART;TZID=Europe/Paris:20260620T153000
DTEND;TZID=Europe/Paris:20260620T163000
DTSTAMP:20260424T123526
CREATED:20260205T074218Z
LAST-MODIFIED:20260206T165232Z
UID:2005-1781969400-1781973000@koorlangbroek.nl
SUMMARY:Optreden in Bartimeus
DESCRIPTION:–
URL:https://koorlangbroek.nl/concert/optreden-in-bartimeus/
LOCATION:Bartimeüs Doorn\, Oude Arnhemse Bovenweg 3\, Doorn\, Utrecht\, 3941XM\, Nederland
CATEGORIES:Kinderkoor De Gloriazangertjes,Tienerkoor Joy
ATTACH;FMTTYPE=image/jpeg:https://koorlangbroek.nl/wp-content/uploads/2024/02/Bartimeuskapel.jpg
END:VEVENT
BEGIN:VEVENT
DTSTART;TZID=Europe/Paris:20261017T143000
DTEND;TZID=Europe/Paris:20261017T153000
DTSTAMP:20260424T123526
CREATED:20260206T184728Z
LAST-MODIFIED:20260206T185541Z
UID:2016-1792247400-1792251000@koorlangbroek.nl
SUMMARY:Huize Beatrix
DESCRIPTION:
URL:https://koorlangbroek.nl/concert/de-wijngaard/
LOCATION:Huize Beatrix\, Jacob van Ruysdaellaan 17\, Doorn\, 3941 ZE\, Nederland
CATEGORIES:Kinderkoor De Gloriazangertjes
ATTACH;FMTTYPE=image/jpeg:https://koorlangbroek.nl/wp-content/uploads/2024/08/7a24033e50ef34d0e77508ec621e43b5bac57d10.jpeg
END:VEVENT
BEGIN:VEVENT
DTSTART;TZID=Europe/Paris:20261210T190000
DTEND;TZID=Europe/Paris:20261210T203000
DTSTAMP:20260424T123526
CREATED:20260328T153451Z
LAST-MODIFIED:20260328T153451Z
UID:2031-1796929200-1796934600@koorlangbroek.nl
SUMMARY:Zingen in De Ridderhof
DESCRIPTION:
URL:https://koorlangbroek.nl/concert/zingen-in-de-ridderhof/
LOCATION:De Ridderhof in Amerongen\, De Postmeester 93\, Amerongen\, 3958 DC\, Netherlands
CATEGORIES:Gemengd Koor Soli Deo Gloria
ATTACH;FMTTYPE=image/jpeg:https://koorlangbroek.nl/wp-content/uploads/2025/03/thumbnail_nodeimage_node64.jpg
END:VEVENT
BEGIN:VEVENT
DTSTART;TZID=Europe/Paris:20261222T193000
DTEND;TZID=Europe/Paris:20261222T210000
DTSTAMP:20260424T123526
CREATED:20260206T191109Z
LAST-MODIFIED:20260207T123235Z
UID:2027-1797967800-1797973200@koorlangbroek.nl
SUMMARY:Kerstconcert
DESCRIPTION:
URL:https://koorlangbroek.nl/concert/kerstconcert-3/
LOCATION:Hervormde Kerk Langbroek\, Brink 10\, Langbroek\, Utrecht\, 3947NS\, Nederland
CATEGORIES:Gemengd Koor Soli Deo Gloria,Kinderkoor De Gloriazangertjes,Tienerkoor Joy
ATTACH;FMTTYPE=image/jpeg:https://koorlangbroek.nl/wp-content/uploads/2023/10/5e7230e0-c732-432c-adb5-bb92a7e35329_thumb1024.jpg
END:VEVENT
END:VCALENDAR